BEGIN:VCALENDAR
VERSION:2.0
PRODID:iCalendar-Evo
X-WR-TIMEZONE:US/Eastern
BEGIN:VEVENT
DTSTAMP:20260421THI2513Z
URL:https://www.veronanj.org/events/92088/
DTSTART;TZID=US/Eastern:20251025T110000
DTEND;TZID=US/Eastern:20251025T140000
SUMMARY:Fall-O-Ween Fall Festival
DESCRIPTION:Spooky Season Is Here! Do you have your costume ready? Join us for Verona's annual Fall-O-Ween festival on Saturday, October 25th, from 11 a.m. to 2 p.m. at Verona's Civic Center (600 Bloomfield Ave). The first half-hour, from 11 a.m. to 11:30 a.m., will be sensory-friendly, featuring a smaller crowd and limited music. Enjoy an afternoon filled with:  Pumpkin painting Inflatables Costume parade Goodie bags And much more!  After the festivities, we’ll have trick-or-treating down Bloomfield Ave with local businesses from 2-4pm. A special thank you to the Verona Public Library, the Junior Women's Club of Verona and Kidz Smile Pediatric Dentistry for their support!  
LOCATION:Verona Town Hall at 600 Bloomfield Ave., Verona, New Jersey 07044
GEO:40.83256629999995;-74.24658109999991
UID:6b806ab2-a328-4b85-82a4-ca128156d79220251025T150000@www.veronanj.org
END:VEVENT
END:VCALENDAR